BEGIN:VCALENDAR
VERSION:2.0
PRODID:-//Castletown Commissioners - ECPv6.15.20//NONSGML v1.0//EN
CALSCALE:GREGORIAN
METHOD:PUBLISH
X-WR-CALNAME:Castletown Commissioners
X-ORIGINAL-URL:https://www.castletown.gov.im
X-WR-CALDESC:Events for Castletown Commissioners
REFRESH-INTERVAL;VALUE=DURATION:PT1H
X-Robots-Tag:noindex
X-PUBLISHED-TTL:PT1H
BEGIN:VTIMEZONE
TZID:Europe/London
BEGIN:DAYLIGHT
TZOFFSETFROM:+0000
TZOFFSETTO:+0100
TZNAME:BST
DTSTART:20250330T010000
END:DAYLIGHT
BEGIN:STANDARD
TZOFFSETFROM:+0100
TZOFFSETTO:+0000
TZNAME:GMT
DTSTART:20251026T010000
END:STANDARD
BEGIN:DAYLIGHT
TZOFFSETFROM:+0000
TZOFFSETTO:+0100
TZNAME:BST
DTSTART:20260329T010000
END:DAYLIGHT
BEGIN:STANDARD
TZOFFSETFROM:+0100
TZOFFSETTO:+0000
TZNAME:GMT
DTSTART:20261025T010000
END:STANDARD
BEGIN:DAYLIGHT
TZOFFSETFROM:+0000
TZOFFSETTO:+0100
TZNAME:BST
DTSTART:20270328T010000
END:DAYLIGHT
BEGIN:STANDARD
TZOFFSETFROM:+0100
TZOFFSETTO:+0000
TZNAME:GMT
DTSTART:20271031T010000
END:STANDARD
END:VTIMEZONE
BEGIN:VEVENT
DTSTART;TZID=Europe/London:20260425T100000
DTEND;TZID=Europe/London:20260425T120000
DTSTAMP:20260420T131947
CREATED:20260417T135028Z
LAST-MODIFIED:20260417T135028Z
UID:10000072-1777111200-1777118400@www.castletown.gov.im
SUMMARY:Birds at the coast for Young Birders
DESCRIPTION:‘Walk & Talk’ for primary school–aged children\, accompanied by a responsible adult (parent\, relative\, or carer). Children will have the opportunity to observe and learn about coastal birds that travel out to sea. This is an easy walk of up to 2 miles\, mostly along the roadway. No dogs permitted. Meet at the Scarlett car park. Please dress for the weather and wear sensible footwear. Admission is free.
URL:https://www.castletown.gov.im/event/birds-at-the-coast-for-young-birders/
LOCATION:Scarlett Nature Discovery Centre Car Park\, Queen Street\, Castletown\, Isle of Man\, IM1 4LE
GEO:54.0673882;-4.6617202
X-APPLE-STRUCTURED-LOCATION;VALUE=URI;X-ADDRESS=Scarlett Nature Discovery Centre Car Park Queen Street Castletown Isle of Man IM1 4LE;X-APPLE-RADIUS=500;X-TITLE=Queen Street:geo:-4.6617202,54.0673882
END:VEVENT
BEGIN:VEVENT
DTSTART;TZID=Europe/London:20260425T100000
DTEND;TZID=Europe/London:20260425T160000
DTSTAMP:20260420T131947
CREATED:20260121T165901Z
LAST-MODIFIED:20260420T101545Z
UID:10000045-1777111200-1777132800@www.castletown.gov.im
SUMMARY:Balley Cashtal Market in the Square
DESCRIPTION:Balley Cashtal Markets in the Square. \n25th April (In Barracks Square)\n30th May\n27th June\n18th July\n22nd August\n19th September
URL:https://www.castletown.gov.im/event/balley-cashtal-market-in-the-square/2026-04-25/
LOCATION:Castletown Square\, Castletown\, Isle of Man\, IM9 1BB\, United Kingdom
END:VEVENT
BEGIN:VEVENT
DTSTART;TZID=Europe/London:20260425T190000
DTEND;TZID=Europe/London:20260425T220000
DTSTAMP:20260420T131947
CREATED:20260215T224934Z
LAST-MODIFIED:20260401T105652Z
UID:10000057-1777143600-1777154400@www.castletown.gov.im
SUMMARY:Southern 100 Press Launch
DESCRIPTION:Southern 100 Racing will officially begin its 2026 season with the Media Launch event on Saturday 25th April 2026 at the Civic Centre in Castletown. \nThe annual launch\, which is by invitation only\, brings together invited guests\, sponsors\, and competitors for an evening featuring major announcements\, rider interviews\, and key updates ahead of this year’s racing on the Billown Course.
URL:https://www.castletown.gov.im/event/southern-100-press-launch/
LOCATION:Civic Hall\, Farrants Way\, Castletown\, IM9 1NR
GEO:54.0729599;-4.6545487
X-APPLE-STRUCTURED-LOCATION;VALUE=URI;X-ADDRESS=Civic Hall Farrants Way Castletown IM9 1NR;X-APPLE-RADIUS=500;X-TITLE=Farrants Way:geo:-4.6545487,54.0729599
END:VEVENT
END:VCALENDAR