BEGIN:VCALENDAR
VERSION:2.0
PRODID:-//Castletown Commissioners - ECPv6.15.20//NONSGML v1.0//EN
CALSCALE:GREGORIAN
METHOD:PUBLISH
X-ORIGINAL-URL:https://www.castletown.gov.im
X-WR-CALDESC:Events for Castletown Commissioners
REFRESH-INTERVAL;VALUE=DURATION:PT1H
X-Robots-Tag:noindex
X-PUBLISHED-TTL:PT1H
BEGIN:VTIMEZONE
TZID:Europe/London
BEGIN:DAYLIGHT
TZOFFSETFROM:+0000
TZOFFSETTO:+0100
TZNAME:BST
DTSTART:20250330T010000
END:DAYLIGHT
BEGIN:STANDARD
TZOFFSETFROM:+0100
TZOFFSETTO:+0000
TZNAME:GMT
DTSTART:20251026T010000
END:STANDARD
BEGIN:DAYLIGHT
TZOFFSETFROM:+0000
TZOFFSETTO:+0100
TZNAME:BST
DTSTART:20260329T010000
END:DAYLIGHT
BEGIN:STANDARD
TZOFFSETFROM:+0100
TZOFFSETTO:+0000
TZNAME:GMT
DTSTART:20261025T010000
END:STANDARD
BEGIN:DAYLIGHT
TZOFFSETFROM:+0000
TZOFFSETTO:+0100
TZNAME:BST
DTSTART:20270328T010000
END:DAYLIGHT
BEGIN:STANDARD
TZOFFSETFROM:+0100
TZOFFSETTO:+0000
TZNAME:GMT
DTSTART:20271031T010000
END:STANDARD
END:VTIMEZONE
BEGIN:VEVENT
DTSTART;TZID=Europe/London:20261121T120000
DTEND;TZID=Europe/London:20261121T160000
DTSTAMP:20260423T111940
CREATED:20260121T172329Z
LAST-MODIFIED:20260122T130551Z
UID:10000054-1795262400-1795276800@www.castletown.gov.im
SUMMARY:Willow Lantern Workshops
DESCRIPTION:Free Willow Lantern Workshops will take place on the 7th\, 14th\, 15th\, 21st & 22nd of November in the Civic Hall Castletown\, 12-4pm. \n\nAll materials provided.\nChildren under 10 must be accompanied by an adult.\nLanterns made will lead the Christmas Switch-On Parade on the 28th of November.
URL:https://www.castletown.gov.im/event/willow-lantern-workshops/2026-11-21/
LOCATION:Civic Hall\, Farrants Way\, Castletown\, IM9 1NR
GEO:54.0729599;-4.6545487
X-APPLE-STRUCTURED-LOCATION;VALUE=URI;X-ADDRESS=Civic Hall Farrants Way Castletown IM9 1NR;X-APPLE-RADIUS=500;X-TITLE=Farrants Way:geo:-4.6545487,54.0729599
END:VEVENT
BEGIN:VEVENT
DTSTART;TZID=Europe/London:20261122T080000
DTEND;TZID=Europe/London:20261122T110000
DTSTAMP:20260423T111940
CREATED:20260421T112315Z
LAST-MODIFIED:20260421T112315Z
UID:10000075-1795334400-1795345200@www.castletown.gov.im
SUMMARY:Syd Quirk Half-Marathon
DESCRIPTION:Castletown will host the Syd Quirk Half Marathon Run & Walk on 22 November 2026 between 08:00 and 11:30 \nParticipants will tackle a mildly undulating\, two-lap course beginning in Ronaldsway Industrial Estate\, close to the Sefton Express Hotel. \nThe race is organised by the Isle of Man Veteran Athletes’ Club. \nStart: Ronaldsway Industrial Estate\, next to the Fire Station.\nFinish: Ronaldsway Industrial Estate\, next to Strix.\nInitial Loop: Complete 1 lap of the Industrial Estate. \nMain Course (2 laps): \n\nExit the Estate\, turn left towards Ballasalla.\nPass through Ballasalla\, over the level crossing\, past the Whitestone Pub.\nTurn left at the Ballasalla Stores roundabout\, continue to Cross Four Ways and onto the Southern 100 course (in reverse).\nPass through Billown towards Ballabeg Corner; turn left.\nContinue to Ballakeighan Corner; turn left onto the Castletown By-Pass.\nAt Castletown\, go straight at the railway bridge traffic lights\, keep left at the next roundabout\, passing Viking & Sidings Pubs and Station Garage.\nTurn left at Janet’s Corner roundabout\, pass King William’s College\, and return to Airport roundabout.\n\nFinal Loop: After 2 laps\, re-enter the Industrial Estate for a final lap\, finishing near the lane to the old Ronaldsway Social Club.
URL:https://www.castletown.gov.im/event/syd-quirk-half-marathon/
END:VEVENT
BEGIN:VEVENT
DTSTART;TZID=Europe/London:20261122T120000
DTEND;TZID=Europe/London:20261122T160000
DTSTAMP:20260423T111940
CREATED:20260121T172329Z
LAST-MODIFIED:20260122T130551Z
UID:10000055-1795348800-1795363200@www.castletown.gov.im
SUMMARY:Willow Lantern Workshops
DESCRIPTION:Free Willow Lantern Workshops will take place on the 7th\, 14th\, 15th\, 21st & 22nd of November in the Civic Hall Castletown\, 12-4pm. \n\nAll materials provided.\nChildren under 10 must be accompanied by an adult.\nLanterns made will lead the Christmas Switch-On Parade on the 28th of November.
URL:https://www.castletown.gov.im/event/willow-lantern-workshops/2026-11-22/
LOCATION:Civic Hall\, Farrants Way\, Castletown\, IM9 1NR
GEO:54.0729599;-4.6545487
X-APPLE-STRUCTURED-LOCATION;VALUE=URI;X-ADDRESS=Civic Hall Farrants Way Castletown IM9 1NR;X-APPLE-RADIUS=500;X-TITLE=Farrants Way:geo:-4.6545487,54.0729599
END:VEVENT
BEGIN:VEVENT
DTSTART;TZID=Europe/London:20261128T173000
DTEND;TZID=Europe/London:20261128T220000
DTSTAMP:20260423T111940
CREATED:20260121T173039Z
LAST-MODIFIED:20260121T173039Z
UID:10000043-1795887000-1795903200@www.castletown.gov.im
SUMMARY:Christmas Lights Switch On
DESCRIPTION:Christmas lights switch on in Castletown Square. More information to follow
URL:https://www.castletown.gov.im/event/christmas-lights-switch-on/
LOCATION:Castletown Square\, Castletown\, Isle of Man\, IM9 1BB\, United Kingdom
END:VEVENT
END:VCALENDAR